{"text_format":"1","workbook":"xlsx","n_sheets":1,"sheets":["01"],"not_rendered":{"charts":0,"images":4,"macros":0,"external_links":0,"defined_names":2,"comments":0,"pivot_tables":0},"unopened":[],"bounds":{"document_bytes":16777216,"sheet_cells":100000,"rows_first":2000,"rows_last":500,"rows_between":2000,"halvings":0,"cell_chars":16384,"cell_head_chars":4096},"cells_cut":0,"cells_raw":0,"read":"whole","date_system":"1900"}

{"sheet":"01","index":0,"n_rows":66,"n_cols":13,"rows_kept":66,"cut":false,"hidden":false,"merged":[[53,0,55,12],[65,0,65,12],[5,0,5,12],[6,14,6,15],[7,14,7,15],[9,14,9,15],[37,1,37,10],[0,8,3,10],[0,11,0,12],[1,11,1,12],[2,11,2,12],[3,11,3,12]]}
[null,null,"MINISTERIO DE DEFENSA NACIONAL ",null,null,null,null,null,"FICHA TÉCNICA ",null,null,"Pág:"]
[null,null,"COMANDO COMANDANTE GENERAL DE LAS FUERZAS MILITARES",null,null,null,null,null,null,null,null,"Código: FO-SECEJ-CEAYG-1787"]
[null,null,"EJERCITO NACIONAL",null,null,null,null,null,null,null,null,"Versión: 0"]
[null,null,"AYUDANTÍA GENERAL COMANDO EJERCITO",null,null,null,null,null,null,null,null,"Fecha de emisión: 2022-09-22"]
[]
["-"]
[]
[]
["ID",null,null,":","-"]
["PRODUCTO",null,null,":","-"]
["ESPECIFICACIÓN",null,null,":","-"]
["MATERIAL",null,null,":","-"]
["REFERENCIA",null,null,":","-"]
["TAMAÑO",null,null,":","-"]
["TIPO",null,null,":","-"]
["UND. MEDIDA",null,null,":","-"]
["CÓDIGO SAP",null,null,":","-"]
["NOMBRE SAP",null,null,":","-"]
["BASE PRODUCC.",null,null,":","-"]
[]
[]
["REQUERIMIENTO DE MATERIA PRIMA E INSUMOS"]
["N°","ELEMENTO",null,null,null,null,null,null,null,null,"CÓDIGO","U. MEDIDA","CANTIDAD"]
[1,"-"]
[{"$f":"+A24+1","v":2},"-"]
[{"$f":"+A25+1","v":3},"-"]
[4,"-"]
[5,"-"]
[6,"-"]
[7,"-"]
[8,"-"]
[9,"-"]
[10,"-"]
[11,"-"]
[12,"-"]
[]
["TIEMPOS DE PROCESOS"]
["N°","ACTIVIDAD",null,null,null,null,null,null,null,null,null,"T/MINUTOS","T/HORAS"]
[1,"-",null,null,null,null,null,null,null,null,null,"-","-"]
[{"$f":"+A39+1","v":2},"-",null,null,null,null,null,null,null,null,null,"-","-"]
[{"$f":"+A40+1","v":3},"-",null,null,null,null,null,null,null,null,null,"-","-"]
[4,"-",null,null,null,null,null,null,null,null,null,"-","-"]
[5,"-",null,null,null,null,null,null,null,null,null,"-","-"]
[6,"-",null,null,null,null,null,null,null,null,null,"-","-"]
[7,"-",null,null,null,null,null,null,null,null,null,"-","-"]
[8,"-",null,null,null,null,null,null,null,null,null,"-","-"]
[9,"-",null,null,null,null,null,null,null,null,null,"-","-"]
[10,"-",null,null,null,null,null,null,null,null,null,"-","-"]
[11,"-",null,null,null,null,null,null,null,null,null,"-","-"]
[12,"-",null,null,null,null,null,null,null,null,null,"-","-"]
[null,null,null,null,null,null,null,null,null,null,"TOTAL TIEMPO ELABORACIÓN","-","-"]
[]
["Nota Aclaratoria:"]
["-",{"$f":"VLOOKUP($E$9,#REF!,101,0)","v":{"$error":"#REF!"}},{"$f":"VLOOKUP($E$9,#REF!,101,0)","v":{"$error":"#REF!"}},{"$f":"VLOOKUP($E$9,#REF!,101,0)","v":{"$error":"#REF!"}},{"$f":"VLOOKUP($E$9,#REF!,101,0)","v":{"$error":"#REF!"}},{"$f":"VLOOKUP($E$9,#REF!,101,0)","v":{"$error":"#REF!"}},{"$f":"VLOOKUP($E$9,#REF!,101,0)","v":{"$error":"#REF!"}},{"$f":"VLOOKUP($E$9,#REF!,101,0)","v":{"$error":"#REF!"}},{"$f":"VLOOKUP($E$9,#REF!,101,0)","v":{"$error":"#REF!"}},{"$f":"VLOOKUP($E$9,#REF!,101,0)","v":{"$error":"#REF!"}},{"$f":"VLOOKUP($E$9,#REF!,101,0)","v":{"$error":"#REF!"}},{"$f":"VLOOKUP($E$9,#REF!,101,0)","v":{"$error":"#REF!"}},{"$f":"VLOOKUP($E$9,#REF!,101,0)","v":{"$error":"#REF!"}}]
[{"$f":"VLOOKUP($E$9,#REF!,101,0)","v":{"$error":"#REF!"}},{"$f":"VLOOKUP($E$9,#REF!,101,0)","v":{"$error":"#REF!"}},{"$f":"VLOOKUP($E$9,#REF!,101,0)","v":{"$error":"#REF!"}},{"$f":"VLOOKUP($E$9,#REF!,101,0)","v":{"$error":"#REF!"}},{"$f":"VLOOKUP($E$9,#REF!,101,0)","v":{"$error":"#REF!"}},{"$f":"VLOOKUP($E$9,#REF!,101,0)","v":{"$error":"#REF!"}},{"$f":"VLOOKUP($E$9,#REF!,101,0)","v":{"$error":"#REF!"}},{"$f":"VLOOKUP($E$9,#REF!,101,0)","v":{"$error":"#REF!"}},{"$f":"VLOOKUP($E$9,#REF!,101,0)","v":{"$error":"#REF!"}},{"$f":"VLOOKUP($E$9,#REF!,101,0)","v":{"$error":"#REF!"}},{"$f":"VLOOKUP($E$9,#REF!,101,0)","v":{"$error":"#REF!"}},{"$f":"VLOOKUP($E$9,#REF!,101,0)","v":{"$error":"#REF!"}},{"$f":"VLOOKUP($E$9,#REF!,101,0)","v":{"$error":"#REF!"}}]
[{"$f":"VLOOKUP($E$9,#REF!,101,0)","v":{"$error":"#REF!"}},{"$f":"VLOOKUP($E$9,#REF!,101,0)","v":{"$error":"#REF!"}},{"$f":"VLOOKUP($E$9,#REF!,101,0)","v":{"$error":"#REF!"}},{"$f":"VLOOKUP($E$9,#REF!,101,0)","v":{"$error":"#REF!"}},{"$f":"VLOOKUP($E$9,#REF!,101,0)","v":{"$error":"#REF!"}},{"$f":"VLOOKUP($E$9,#REF!,101,0)","v":{"$error":"#REF!"}},{"$f":"VLOOKUP($E$9,#REF!,101,0)","v":{"$error":"#REF!"}},{"$f":"VLOOKUP($E$9,#REF!,101,0)","v":{"$error":"#REF!"}},{"$f":"VLOOKUP($E$9,#REF!,101,0)","v":{"$error":"#REF!"}},{"$f":"VLOOKUP($E$9,#REF!,101,0)","v":{"$error":"#REF!"}},{"$f":"VLOOKUP($E$9,#REF!,101,0)","v":{"$error":"#REF!"}},{"$f":"VLOOKUP($E$9,#REF!,101,0)","v":{"$error":"#REF!"}},{"$f":"VLOOKUP($E$9,#REF!,101,0)","v":{"$error":"#REF!"}}]
[]
[]
[]
[]
[]
[]
[]
[]
[]
["Publicaciones Ejercito - Cantón Occidental Cra 50 N° 18-92 Puente Aranda - Bogotá D.C. Tel. 4261486 Ext. 37673"]